BEGIN:VCALENDAR
VERSION:2.0
CALSCALE:GREGORIAN
PRODID:adamgibbons/ics
METHOD:PUBLISH
X-PUBLISHED-TTL:PT1H
BEGIN:VEVENT
UID:21692@demo.gancio.org
SUMMARY:Curso de Autodefensa Digital
DTSTAMP:20260421T060732Z
DTSTART:20260421T170000Z
URL:https://demo.gancio.org/event/curso-de-autodefensa-digital
GEO:40.40945;-3.70965
LOCATION:CSO La Rosa - Calle Bastero 1
STATUS:CONFIRMED
CATEGORIES:AutoDefensa,Autodefensa digital,CSOLaRosa,Curso,Madrid,Privacida
	d,Teknokasa
END:VEVENT
END:VCALENDAR
